BEGIN:VCALENDAR
VERSION:2.0
PRODID:-//Covered Bridge and Champions Pointe - ECPv6.15.18//NONSGML v1.0//EN
CALSCALE:GREGORIAN
METHOD:PUBLISH
X-WR-CALNAME:Covered Bridge and Champions Pointe
X-ORIGINAL-URL:https://www.cbcpgolf.com
X-WR-CALDESC:Events for Covered Bridge and Champions Pointe
REFRESH-INTERVAL;VALUE=DURATION:PT1H
X-Robots-Tag:noindex
X-PUBLISHED-TTL:PT1H
BEGIN:VTIMEZONE
TZID:America/New_York
BEGIN:DAYLIGHT
TZOFFSETFROM:-0500
TZOFFSETTO:-0400
TZNAME:EDT
DTSTART:20250309T070000
END:DAYLIGHT
BEGIN:STANDARD
TZOFFSETFROM:-0400
TZOFFSETTO:-0500
TZNAME:EST
DTSTART:20251102T060000
END:STANDARD
BEGIN:DAYLIGHT
TZOFFSETFROM:-0500
TZOFFSETTO:-0400
TZNAME:EDT
DTSTART:20260308T070000
END:DAYLIGHT
BEGIN:STANDARD
TZOFFSETFROM:-0400
TZOFFSETTO:-0500
TZNAME:EST
DTSTART:20261101T060000
END:STANDARD
BEGIN:DAYLIGHT
TZOFFSETFROM:-0500
TZOFFSETTO:-0400
TZNAME:EDT
DTSTART:20270314T070000
END:DAYLIGHT
BEGIN:STANDARD
TZOFFSETFROM:-0400
TZOFFSETTO:-0500
TZNAME:EST
DTSTART:20271107T060000
END:STANDARD
END:VTIMEZONE
BEGIN:VEVENT
DTSTART;TZID=America/New_York:20260424T180000
DTEND;TZID=America/New_York:20260424T210000
DTSTAMP:20260424T063639
CREATED:20260326T150950Z
LAST-MODIFIED:20260331T193808Z
UID:10000158-1777053600-1777064400@www.cbcpgolf.com
SUMMARY:Wine Tasting | Champions Pointe Golf Club
DESCRIPTION:Join us Friday\, April 24th at 6PM for an elevated wine tasting experience at Champions Pointe Golf Club. Enjoy five curated wines from Josh Cellars\, Ruffino\, Meiomi\, and Garofoli\, each paired with chef-selected hors d’oeuvres. \nWhether you’re planning a date night or just looking for a fun night out\, this is the perfect way to unwind and try something new. \n$45 per person\nSpots are limited and reservations are required. \nReservations are required\, please fill out the form below.  \nPlease enable JavaScript in your browser to complete this form.Name *FirstLast		\n			questions? be will\n			\n		\n		Email *Phone *Please indicate the number of guests who will be attending.  *--- Select Choice ---12345678910Any comments or questions?Submit
URL:https://www.cbcpgolf.com/event/wine26/
ATTACH;FMTTYPE=image/jpeg:https://www.cbcpgolf.com/wp-content/uploads/sites/8727/2026/03/Wine-Tasting-4.jpg
END:VEVENT
END:VCALENDAR